BEGIN:VCALENDAR
VERSION:2.0
PRODID:-//InvisionCommunity Events 4.7.23//EN
METHOD:PUBLISH
CALSCALE:GREGORIAN
REFRESH-INTERVAL:PT15M
X-PUBLISHED-TTL:PT15M
X-WR-CALNAME:Календарь сообщества
NAME:Календарь сообщества
BEGIN:VTIMEZONE
TZID:Europe/London
TZURL:http://tzurl.org/zoneinfo/Europe/London
X-LIC-LOCATION:Europe/London
BEGIN:DAYLIGHT
TZOFFSETFROM:+0000
TZOFFSETTO:+0100
TZNAME:BST
DTSTART:20060326T020000Z
RRULE:FREQ=YEARLY;BYMONTH=3;BYDAY=-1SU
END:DAYLIGHT
BEGIN:STANDARD
TZOFFSETFROM:+0100
TZOFFSETTO:+0000
TZNAME:GMT
DTSTART:20061029T020000Z
RRULE:FREQ=YEARLY;BYMONTH=10;BYDAY=-1SU
END:STANDARD
END:VTIMEZONE
BEGIN:VEVENT
SUMMARY:\"Ралли-Столица\"
DTSTAMP:20060505T085153Z
SEQUENCE:1
UID:352-1-500c8d8bf9a44c692fa8d32c17f01448@2108.kiev.ua
ORGANIZER;CN="Tolyan":21@8.co.ua
DESCRIPTION:\n\"Ралли-Столица\"\nНеділя
	\, 7 травня 2006 р.\nм.
	 Київ. Майдан Незалежн
	ості\nУрочисте відкритт
	я змагань\n18.00 – 19.0
	0 Презентація команд\
	, що беруть участь в змага
	ннях\n19.31 Старт ралі\nПонеділок\, 8
	 травня 2006 р.\n09.00 – 13
	.00 Швидкіс
	ні змагання
	 на територ
	ії НК «Експ
	оцентр України» Го
	лосіївського парку\, ав
	тодрому «Феофанія» та
	 ін.\n15.00 – 18.00 Виставка
	 ретроавтомобілів (м
	айдан Незалежності)\
	n19.00 – 20.00 Уроч
	исте нагор
	одження пер
	еможців та пр
	изерів змагань(м
	айдан Незалежності)\nОргком
	ітет\nКМАМК\nКиїв\, Вул.. Донецька\
	, 22\n(044) 537 01 88\nГеннадій Вільгоцький
	 8(067)998 90 33\nОбсуждение тут!\nhttp://forum.2108.kiev.ua/
	index.php?showto...mp\;#entry217010\n
DTSTART:20060507T030000Z
DTEND:20060509T025959Z
END:VEVENT
END:VCALENDAR
