BEGIN:VCALENDAR
VERSION:2.0
PRODID:-//InvisionCommunity Events 4.7.23//EN
METHOD:PUBLISH
CALSCALE:GREGORIAN
REFRESH-INTERVAL:PT15M
X-PUBLISHED-TTL:PT15M
X-WR-CALNAME:Календарь сообщества
NAME:Календарь сообщества
BEGIN:VTIMEZONE
TZID:Europe/London
TZURL:http://tzurl.org/zoneinfo/Europe/London
X-LIC-LOCATION:Europe/London
BEGIN:DAYLIGHT
TZOFFSETFROM:+0000
TZOFFSETTO:+0100
TZNAME:BST
DTSTART:20160327T020000Z
RRULE:FREQ=YEARLY;BYMONTH=3;BYDAY=-1SU
END:DAYLIGHT
BEGIN:STANDARD
TZOFFSETFROM:+0100
TZOFFSETTO:+0000
TZNAME:GMT
DTSTART:20161030T020000Z
RRULE:FREQ=YEARLY;BYMONTH=10;BYDAY=-1SU
END:STANDARD
END:VTIMEZONE
BEGIN:VEVENT
SUMMARY:Автокросс в г. Харьков\, 7-8 мая 2016
DTSTAMP:20160420T141740Z
SEQUENCE:0
UID:701-1-500c8d8bf9a44c692fa8d32c17f01448@2108.kiev.ua
ORGANIZER;CN="Tolyan":21@8.co.ua
DESCRIPTION:\n\n	7–8 мая в Хар
	ькове состои
	тся уже трад
	иционное 20
	-е по счету 
	открытие с
	езона наци
	онального автом
	обильного кросса
	 в рамках I этапа
	 Чемпионата Укра
	ины 2016 года по
	д название
	м «ХАДО Ма
	ксимум». По 
	словам орган
	изаторов из 
	Автомобильно
	го клуба «Харь
	ков»\, в этот ра
	з на страте ожи
	дается настоящий анш
	лаг – до 50 участников со всей 
	страны!\n\n\n\n	Подробнее тут! \n\n\n\n\n	 \n\n\n\n	 
	\n\n
DTSTART:20160420T060000Z
DTEND:20160508T170000Z
END:VEVENT
END:VCALENDAR
